BEGIN:VCALENDAR
VERSION:2.0
PRODID:-//Tukios.com/
BEGIN:VEVENT
UID:3c417431-6c5e-4929-8a19-660628972518@www.battenfuneral.com
DTSTAMP:20260420T044821Z
DTSTART:20260421T170000Z
DTEND:20260421T180000Z
SUMMARY:Visitation
DESCRIPTION:
URL:https://www.battenfuneral.com/obituaries/linda-knight
LOCATION: 645 Evergreen Church Rd  Stanardsville VA 22973
GEO:38.2720103;-78.5452115
END:VEVENT
END:VCALENDAR