BEGIN:VCALENDAR
VERSION:2.0
PRODID:-//Tukios.com/
BEGIN:VEVENT
UID:75063733-a333-42b9-87ca-a78a235e174b@www.battenfuneral.com
DTSTAMP:20260420T044240Z
DTSTART:20260421T180000Z
DTEND:20260421T190000Z
SUMMARY:Funeral Service
DESCRIPTION:
URL:https://www.battenfuneral.com/obituaries/linda-knight
LOCATION: 645 Evergreen Church Rd  Stanardsville VA 22973
GEO:38.2720103;-78.5452115
END:VEVENT
END:VCALENDAR